BEGIN:VCALENDAR
VERSION:2.0
PRODID:-//Kochverein Frankonia e.V. - ECPv6.15.16//NONSGML v1.0//EN
CALSCALE:GREGORIAN
METHOD:PUBLISH
X-WR-CALNAME:Kochverein Frankonia e.V.
X-ORIGINAL-URL:https://www.kochverein-frankonia.de
X-WR-CALDESC:Veranstaltungen für Kochverein Frankonia e.V.
REFRESH-INTERVAL;VALUE=DURATION:PT1H
X-Robots-Tag:noindex
X-PUBLISHED-TTL:PT1H
BEGIN:VTIMEZONE
TZID:Europe/Berlin
BEGIN:DAYLIGHT
TZOFFSETFROM:+0100
TZOFFSETTO:+0200
TZNAME:CEST
DTSTART:20250330T010000
END:DAYLIGHT
BEGIN:STANDARD
TZOFFSETFROM:+0200
TZOFFSETTO:+0100
TZNAME:CET
DTSTART:20251026T010000
END:STANDARD
BEGIN:DAYLIGHT
TZOFFSETFROM:+0100
TZOFFSETTO:+0200
TZNAME:CEST
DTSTART:20260329T010000
END:DAYLIGHT
BEGIN:STANDARD
TZOFFSETFROM:+0200
TZOFFSETTO:+0100
TZNAME:CET
DTSTART:20261025T010000
END:STANDARD
BEGIN:DAYLIGHT
TZOFFSETFROM:+0100
TZOFFSETTO:+0200
TZNAME:CEST
DTSTART:20270328T010000
END:DAYLIGHT
BEGIN:STANDARD
TZOFFSETFROM:+0200
TZOFFSETTO:+0100
TZNAME:CET
DTSTART:20271031T010000
END:STANDARD
END:VTIMEZONE
BEGIN:VEVENT
DTSTART;TZID=Europe/Berlin:20261019T180000
DTEND;TZID=Europe/Berlin:20261019T210000
DTSTAMP:20260425T052030
CREATED:20251218T113958Z
LAST-MODIFIED:20251218T113958Z
UID:3115-1792432800-1792443600@www.kochverein-frankonia.de
SUMMARY:Herbstfest & Käppele
DESCRIPTION:Unser traditionelles Herbstfest steht vor der Tür! Der Sommer neigt sich dem Ende und wir freuen uns auf einen goldenen Herbst! \nWir laden um 18.00 Uhr zum Gottesdienst ins Käppele – Gerne in Kochkleidung!\nAnschließend laden wir unsere Mitglieder zum Abendessen in den Schützenhof ein. \nAuf einen geselligen\, kulinarischen und schönen Abend über den Dächern von Würzburg!
URL:https://www.kochverein-frankonia.de/event/herbstfest-kaeppele-2/
LOCATION:Schützenhof\, Mainleitenweg 48\, Würzburg\, 97082\, Deutschland
ATTACH;FMTTYPE=image/jpeg:https://www.kochverein-frankonia.de/wp-content/uploads/2023/11/Kochverein-Frankonia-Herbstfest-2.jpeg
ORGANIZER;CN="Kochverein Frankonia e.V.":MAILTO:marketing@kochverein-frankonia.de
END:VEVENT
BEGIN:VEVENT
DTSTART;TZID=Europe/Berlin:20261030T150000
DTEND;TZID=Europe/Berlin:20261030T150000
DTSTAMP:20260425T052030
CREATED:20260122T080011Z
LAST-MODIFIED:20260122T080213Z
UID:3136-1793372400-1793372400@www.kochverein-frankonia.de
SUMMARY:Inklusives Lebkuchen backen
DESCRIPTION:Hallo liebe Mitglieder\, am 30. Oktober 2026 ist es wieder so weit. Wir backen Lebkuchen für unsere Weihnachtsfeier. Dieses mal dürfen wir im St. Josefs-Stift in Eisingen zu Gast sein. \nWir backen klassische Lebkuchen mit edlen Nüssen und Gewürzen für unsere Weihnachtsfeier des Kochvereins. \nUnsere erfahrene Lebkuchenbäckerin Adelinde weist uns in die Feinheiten der Teigherstellung\, das Backen und Verzieren leckere Lebkuchen ein. \nDieses Jahr dürfen wir im St. Josefs Stift zu Gast sein und hier mit Menschen mit Behinderung und Kollegen zusammen backen. \nWas ihr dazu braucht ist auf jeden Fall gute Laune\, Lust zum Backen und Vorfreude auf weihnachtliche Backwaren. \nWas ihr mitbringen solltet ist küchentaugliche Kleidung und Schuhe sowie eine Schürze zum backen. \nAdelinde und der Vorstand des Kochvereins sowie das Küchenteam des St. Josef-Stift freuen sich schon auf euch. \nDanke an Christian Nepita\, der dies für uns möglich gemacht hat.
URL:https://www.kochverein-frankonia.de/event/inklusives-lebkuchen-backen/
LOCATION:St. Josefs Stift Pfr. Robert-Kümmert Str.1 97249 Eisingen\, Pfr. Robert-Kümmert-Str.1\, Eisingen\, 97294
ATTACH;FMTTYPE=image/png:https://www.kochverein-frankonia.de/wp-content/uploads/2026/01/Flyer-A5-14.8x21-cm-Instagram-Reel-Instagram-Post-scaled.png
ORGANIZER;CN="Kochverein Frankonia e.V.":MAILTO:marketing@kochverein-frankonia.de
END:VEVENT
END:VCALENDAR