BEGIN:VCALENDAR
VERSION:2.0
PRODID:-//Kochverein Frankonia e.V. - ECPv6.15.16//NONSGML v1.0//EN
CALSCALE:GREGORIAN
METHOD:PUBLISH
X-ORIGINAL-URL:https://www.kochverein-frankonia.de
X-WR-CALDESC:Veranstaltungen für Kochverein Frankonia e.V.
REFRESH-INTERVAL;VALUE=DURATION:PT1H
X-Robots-Tag:noindex
X-PUBLISHED-TTL:PT1H
BEGIN:VTIMEZONE
TZID:Europe/Berlin
BEGIN:DAYLIGHT
TZOFFSETFROM:+0100
TZOFFSETTO:+0200
TZNAME:CEST
DTSTART:20240331T010000
END:DAYLIGHT
BEGIN:STANDARD
TZOFFSETFROM:+0200
TZOFFSETTO:+0100
TZNAME:CET
DTSTART:20241027T010000
END:STANDARD
BEGIN:DAYLIGHT
TZOFFSETFROM:+0100
TZOFFSETTO:+0200
TZNAME:CEST
DTSTART:20250330T010000
END:DAYLIGHT
BEGIN:STANDARD
TZOFFSETFROM:+0200
TZOFFSETTO:+0100
TZNAME:CET
DTSTART:20251026T010000
END:STANDARD
BEGIN:DAYLIGHT
TZOFFSETFROM:+0100
TZOFFSETTO:+0200
TZNAME:CEST
DTSTART:20260329T010000
END:DAYLIGHT
BEGIN:STANDARD
TZOFFSETFROM:+0200
TZOFFSETTO:+0100
TZNAME:CET
DTSTART:20261025T010000
END:STANDARD
END:VTIMEZONE
BEGIN:VEVENT
DTSTART;TZID=Europe/Berlin:20250311T160000
DTEND;TZID=Europe/Berlin:20250311T190000
DTSTAMP:20260425T173857
CREATED:20241210T192310Z
LAST-MODIFIED:20250131T115737Z
UID:2456-1741708800-1741719600@www.kochverein-frankonia.de
SUMMARY:Macaron Kurs
DESCRIPTION:Schulung über ein klassisches Petite Four mit einem Anfänger freundlichen Rezept.\nDazu eine Einführung zum Thema Cremes und Füllung für die Macarons. Aber nicht nur als süße Option sonder auch herzhaft umgesetzt. \nDie Schulung wird von Leon Eberhardt durchgeführt! \nMaximale Teilnehmerzahl: 16
URL:https://www.kochverein-frankonia.de/event/macaron-kurs/
LOCATION:Franz-Oberthür-Schule Würzburg / Küche Berufsschule\, Zwerchgraben 2\, Würzburg\, 97074\, Deutschland
ATTACH;FMTTYPE=image/jpeg:https://www.kochverein-frankonia.de/wp-content/uploads/2024/12/Kochverein-Macaron-Kurs.jpeg
ORGANIZER;CN="Kochverein Frankonia e.V.":MAILTO:marketing@kochverein-frankonia.de
END:VEVENT
BEGIN:VEVENT
DTSTART;VALUE=DATE:20250329
DTEND;VALUE=DATE:20250330
DTSTAMP:20260425T173857
CREATED:20241210T192433Z
LAST-MODIFIED:20250109T131837Z
UID:2458-1743206400-1743292799@www.kochverein-frankonia.de
SUMMARY:Stadtmeisterschaft im Gastgewerbe
DESCRIPTION:
URL:https://www.kochverein-frankonia.de/event/stadtmeisterschaft-2/
LOCATION:Franz-Oberthür-Schule Würzburg / Küche Berufsschule\, Zwerchgraben 2\, Würzburg\, 97074\, Deutschland
ATTACH;FMTTYPE=image/jpeg:https://www.kochverein-frankonia.de/wp-content/uploads/2024/02/Stadtmeisterschaft-Kochverein-Frankonia.jpeg
ORGANIZER;CN="Kochverein Frankonia e.V.":MAILTO:marketing@kochverein-frankonia.de
END:VEVENT
END:VCALENDAR