BEGIN:VCALENDAR
VERSION:2.0
PRODID:-//Kochverein Frankonia e.V. - ECPv6.15.16//NONSGML v1.0//EN
CALSCALE:GREGORIAN
METHOD:PUBLISH
X-ORIGINAL-URL:https://www.kochverein-frankonia.de
X-WR-CALDESC:Veranstaltungen für Kochverein Frankonia e.V.
REFRESH-INTERVAL;VALUE=DURATION:PT1H
X-Robots-Tag:noindex
X-PUBLISHED-TTL:PT1H
BEGIN:VTIMEZONE
TZID:Europe/Berlin
BEGIN:DAYLIGHT
TZOFFSETFROM:+0100
TZOFFSETTO:+0200
TZNAME:CEST
DTSTART:20230326T010000
END:DAYLIGHT
BEGIN:STANDARD
TZOFFSETFROM:+0200
TZOFFSETTO:+0100
TZNAME:CET
DTSTART:20231029T010000
END:STANDARD
BEGIN:DAYLIGHT
TZOFFSETFROM:+0100
TZOFFSETTO:+0200
TZNAME:CEST
DTSTART:20240331T010000
END:DAYLIGHT
BEGIN:STANDARD
TZOFFSETFROM:+0200
TZOFFSETTO:+0100
TZNAME:CET
DTSTART:20241027T010000
END:STANDARD
BEGIN:DAYLIGHT
TZOFFSETFROM:+0100
TZOFFSETTO:+0200
TZNAME:CEST
DTSTART:20250330T010000
END:DAYLIGHT
BEGIN:STANDARD
TZOFFSETFROM:+0200
TZOFFSETTO:+0100
TZNAME:CET
DTSTART:20251026T010000
END:STANDARD
END:VTIMEZONE
BEGIN:VEVENT
DTSTART;TZID=Europe/Berlin:20241107T160000
DTEND;TZID=Europe/Berlin:20241107T200000
DTSTAMP:20260426T004019
CREATED:20241017T072812Z
LAST-MODIFIED:20241017T073105Z
UID:2214-1730995200-1731009600@www.kochverein-frankonia.de
SUMMARY:Lebkuchen backen
DESCRIPTION:Einladung zum fröhlichen Lebkuchenbacken! \nWir hoffen du bist in voller Vorfreude auf die kommende festliche Jahreszeit! Um die gemütliche Atmosphäre und den köstlichen Duft von frisch gebackenen Lebkuchen zu genießen\, laden wir dich herzlich zu unserem gemeinsamen Lebkuchenbacken ein. \nWas erwartet dich: \n– Gemeinsames Zubereiten von Lebkuchenteig mit einer Auswahl an Gewürzen und Aromen.\n– Fachmännische Tipps und Tricks für das perfekte Backergebnis – natürlich von Adelinde\n– Gemütliches Beisammensein \nWas du mitbringen solltest: \n– Weihnachtliche Backfreude und eine Prise Vorfreude auf die Feiertage.\n– Wenn möglich eine Schürze oder Kochjacke \nWir freuen uns schon sehr darauf\, diese besondere Zeit mit dir zu verbringen und gemeinsam köstliche Lebkuchen zu zaubern! \nHerzliche Grüße\, \nDein Kochverein Frankonia e.V.
URL:https://www.kochverein-frankonia.de/event/lebkuchen-backen/
LOCATION:Franz-Oberthür-Schule Würzburg / Küche Berufsschule\, Zwerchgraben 2\, Würzburg\, 97074\, Deutschland
ATTACH;FMTTYPE=image/png:https://www.kochverein-frankonia.de/wp-content/uploads/2024/10/Kochverein-Frankonia-Lebkuchen-backen.png
ORGANIZER;CN="Kochverein Frankonia e.V.":MAILTO:marketing@kochverein-frankonia.de
END:VEVENT
BEGIN:VEVENT
DTSTART;TZID=Europe/Berlin:20241111T170000
DTEND;TZID=Europe/Berlin:20241111T190000
DTSTAMP:20260426T004019
CREATED:20231116T145912Z
LAST-MODIFIED:20231116T145912Z
UID:1735-1731344400-1731351600@www.kochverein-frankonia.de
SUMMARY:Monatsversammlung
DESCRIPTION:
URL:https://www.kochverein-frankonia.de/event/monatsversammlung-8/
LOCATION:Roter Punkt im BFW Veitshöchheim\, Helen-Keller-Straße 5\, Veitshöchheim\, 97209\, Deutschland
ATTACH;FMTTYPE=image/png:https://www.kochverein-frankonia.de/wp-content/uploads/2020/08/koecheverein_logo.png
ORGANIZER;CN="Kochverein Frankonia e.V.":MAILTO:marketing@kochverein-frankonia.de
END:VEVENT
BEGIN:VEVENT
DTSTART;TZID=Europe/Berlin:20241118T180000
DTEND;TZID=Europe/Berlin:20241118T220000
DTSTAMP:20260426T004019
CREATED:20240116T194013Z
LAST-MODIFIED:20241021T121657Z
UID:1813-1731952800-1731967200@www.kochverein-frankonia.de
SUMMARY:Kesselfleischessen in Oberpleichfeld
DESCRIPTION:Schlachtschüssel-Essen in der Gaststätte Bauer in Oberpleichfeld. \nBeginn ist um 18.00 Uhr!!! Preis pro Person 18\,00 €. \nDie Schweinfurter Schlachtschüssel ist nicht einfach nur eine übliche Schlachtplatte und findet sich auch nicht auf üblichen Speisekarten. Gegessen wird nicht von Tellern\, sondern von langen Holzbrettern direkt auf dem Tisch. Dabei wird eine genaue Reihenfolge eingehalten: Angefangen vom Bauchfleisch geht es weiter mit Bug\, Kopffleisch mit Zunge\, Ohr und Rüssel bis hin zu Herz\, Zunge und den Nieren. Dazu wird Sauerkraut\, Brot\, Meerrettich (Kren) sowie Salz und Pfeffer gereicht. \nWir freuen uns auf einen gemütlichen Abend und nettes Beisammensein! \n!!! Wir akzeptieren nur BARZAHLUNG!!! Maximale Gästeanzahl an diesem Abend – 70 Personen! \nEuer Kochverein Frankonia e.V. & der Schlachtschüssel-Express \n 
URL:https://www.kochverein-frankonia.de/event/kesselfleischessen-in-oberpleichfeld/
LOCATION:Gaststätte Bauer\, Oberpleichfeld\, Prosselsheimer Strasse 15\, Oberpleichfeld\, 97241\, Deutschland
ATTACH;FMTTYPE=image/jpeg:https://www.kochverein-frankonia.de/wp-content/uploads/2024/01/Kesselfleischessen.jpeg
ORGANIZER;CN="Kochverein Frankonia e.V.":MAILTO:marketing@kochverein-frankonia.de
END:VEVENT
END:VCALENDAR