BEGIN:VCALENDAR
VERSION:2.0
PRODID:-//Kochverein Frankonia e.V. - ECPv6.15.16//NONSGML v1.0//EN
CALSCALE:GREGORIAN
METHOD:PUBLISH
X-WR-CALNAME:Kochverein Frankonia e.V.
X-ORIGINAL-URL:https://www.kochverein-frankonia.de
X-WR-CALDESC:Veranstaltungen für Kochverein Frankonia e.V.
REFRESH-INTERVAL;VALUE=DURATION:PT1H
X-Robots-Tag:noindex
X-PUBLISHED-TTL:PT1H
BEGIN:VTIMEZONE
TZID:Europe/Berlin
BEGIN:DAYLIGHT
TZOFFSETFROM:+0100
TZOFFSETTO:+0200
TZNAME:CEST
DTSTART:20250330T010000
END:DAYLIGHT
BEGIN:STANDARD
TZOFFSETFROM:+0200
TZOFFSETTO:+0100
TZNAME:CET
DTSTART:20251026T010000
END:STANDARD
BEGIN:DAYLIGHT
TZOFFSETFROM:+0100
TZOFFSETTO:+0200
TZNAME:CEST
DTSTART:20260329T010000
END:DAYLIGHT
BEGIN:STANDARD
TZOFFSETFROM:+0200
TZOFFSETTO:+0100
TZNAME:CET
DTSTART:20261025T010000
END:STANDARD
BEGIN:DAYLIGHT
TZOFFSETFROM:+0100
TZOFFSETTO:+0200
TZNAME:CEST
DTSTART:20270328T010000
END:DAYLIGHT
BEGIN:STANDARD
TZOFFSETFROM:+0200
TZOFFSETTO:+0100
TZNAME:CET
DTSTART:20271031T010000
END:STANDARD
END:VTIMEZONE
BEGIN:VEVENT
DTSTART;VALUE=DATE:20260517
DTEND;VALUE=DATE:20260518
DTSTAMP:20260425T003140
CREATED:20260122T080518Z
LAST-MODIFIED:20260306T104640Z
UID:3140-1778976000-1779062399@www.kochverein-frankonia.de
SUMMARY:Food-Festival Wirsberg
DESCRIPTION:Am 17. Mai besuchen wir gemeinsam das Food Festival in Wirsberg. Für unseren Kochverein ist dies ein schöner gemeinsamer Ausflug rund um Kulinarik\, Genuss und Inspiration.\nWir fahren um 8:00 Uhr mit dem Bus von der Talavera in Würzburg nach Wirsberg.\nEine Zusteigemöglichkeit besteht außerdem am Pendlerparkplatz in Werneck. \nDie Busfahrt ist für Mitglieder kostenlos.\nFür Nichtmitglieder beträgt der Unkostenbeitrag 15 €.\nDie Rückfahrt ist gegen 17:00 Uhr geplant.\nFür das Festival selbst gibt es den sogenannten Genusspass\, den man vorab online buchen kann (der Verkauf wird in Kürze freigeschaltet). Mit diesem Pass könnt ihr fünf Gerichte von Spitzenköchen und Spitzenköchinnen probieren. Dazu werden fünf passende Weine sowie alkoholfreie Begleiter gereicht – eine tolle Möglichkeit\, verschiedene kulinarische Highlights des Festivals zu entdecken.\nAlternativ könnt ihr natürlich auch ohne Genusspass nach Wirsberg fahren und euch direkt an den verschiedenen Ständen Speisen und Getränke kaufen.\nWeitere Informationen sowie den Link zum Genusspass findet ihr hier:\nHier findet ihr erste Informationen: ZU TISCH! 26 in Wirsberg – Food-Festival\nWir freuen uns auf einen genussvollen gemeinsamen Ausflug mit vielen kulinarischen Eindrücken und einem schönen Tag mit euch. \n 
URL:https://www.kochverein-frankonia.de/event/food-festival-wirsberg/
LOCATION:Wirsberg\, Wirsberg\, 95339
ATTACH;FMTTYPE=image/png:https://www.kochverein-frankonia.de/wp-content/uploads/2026/01/Wirsberg-GenussFestival-scaled.png
ORGANIZER;CN="Kochverein Frankonia e.V.":MAILTO:marketing@kochverein-frankonia.de
END:VEVENT
END:VCALENDAR