BEGIN:VCALENDAR
VERSION:2.0
PRODID:-//Kochverein Frankonia e.V. - ECPv6.15.16//NONSGML v1.0//EN
CALSCALE:GREGORIAN
METHOD:PUBLISH
X-ORIGINAL-URL:https://www.kochverein-frankonia.de
X-WR-CALDESC:Veranstaltungen für Kochverein Frankonia e.V.
REFRESH-INTERVAL;VALUE=DURATION:PT1H
X-Robots-Tag:noindex
X-PUBLISHED-TTL:PT1H
BEGIN:VTIMEZONE
TZID:Europe/Berlin
BEGIN:DAYLIGHT
TZOFFSETFROM:+0100
TZOFFSETTO:+0200
TZNAME:CEST
DTSTART:20250330T010000
END:DAYLIGHT
BEGIN:STANDARD
TZOFFSETFROM:+0200
TZOFFSETTO:+0100
TZNAME:CET
DTSTART:20251026T010000
END:STANDARD
BEGIN:DAYLIGHT
TZOFFSETFROM:+0100
TZOFFSETTO:+0200
TZNAME:CEST
DTSTART:20260329T010000
END:DAYLIGHT
BEGIN:STANDARD
TZOFFSETFROM:+0200
TZOFFSETTO:+0100
TZNAME:CET
DTSTART:20261025T010000
END:STANDARD
BEGIN:DAYLIGHT
TZOFFSETFROM:+0100
TZOFFSETTO:+0200
TZNAME:CEST
DTSTART:20270328T010000
END:DAYLIGHT
BEGIN:STANDARD
TZOFFSETFROM:+0200
TZOFFSETTO:+0100
TZNAME:CET
DTSTART:20271031T010000
END:STANDARD
END:VTIMEZONE
BEGIN:VEVENT
DTSTART;VALUE=DATE:20260509
DTEND;VALUE=DATE:20260510
DTSTAMP:20260425T004106
CREATED:20260121T145658Z
LAST-MODIFIED:20260122T073533Z
UID:3133-1778284800-1778371199@www.kochverein-frankonia.de
SUMMARY:Würzburger Stadtmeisterschaft im Gastgewerbe
DESCRIPTION:… weitere Informationen folgen!
URL:https://www.kochverein-frankonia.de/event/wuerzburger-stadtmeisterschaft-im-gastgewerbe/
LOCATION:Franz-Oberthür-Schule Würzburg / Küche Berufsschule\, Zwerchgraben 2\, Würzburg\, 97074\, Deutschland
ATTACH;FMTTYPE=image/jpeg:https://www.kochverein-frankonia.de/wp-content/uploads/2026/01/IMH_4217-scaled.jpg
ORGANIZER;CN="Kochverein Frankonia e.V.":MAILTO:marketing@kochverein-frankonia.de
END:VEVENT
END:VCALENDAR