BEGIN:VCALENDAR
VERSION:2.0
PRODID:-//Kochverein Frankonia e.V. - ECPv6.15.16//NONSGML v1.0//EN
CALSCALE:GREGORIAN
METHOD:PUBLISH
X-WR-CALNAME:Kochverein Frankonia e.V.
X-ORIGINAL-URL:https://www.kochverein-frankonia.de
X-WR-CALDESC:Veranstaltungen für Kochverein Frankonia e.V.
REFRESH-INTERVAL;VALUE=DURATION:PT1H
X-Robots-Tag:noindex
X-PUBLISHED-TTL:PT1H
BEGIN:VTIMEZONE
TZID:Europe/Berlin
BEGIN:DAYLIGHT
TZOFFSETFROM:+0100
TZOFFSETTO:+0200
TZNAME:CEST
DTSTART:20250330T010000
END:DAYLIGHT
BEGIN:STANDARD
TZOFFSETFROM:+0200
TZOFFSETTO:+0100
TZNAME:CET
DTSTART:20251026T010000
END:STANDARD
BEGIN:DAYLIGHT
TZOFFSETFROM:+0100
TZOFFSETTO:+0200
TZNAME:CEST
DTSTART:20260329T010000
END:DAYLIGHT
BEGIN:STANDARD
TZOFFSETFROM:+0200
TZOFFSETTO:+0100
TZNAME:CET
DTSTART:20261025T010000
END:STANDARD
BEGIN:DAYLIGHT
TZOFFSETFROM:+0100
TZOFFSETTO:+0200
TZNAME:CEST
DTSTART:20270328T010000
END:DAYLIGHT
BEGIN:STANDARD
TZOFFSETFROM:+0200
TZOFFSETTO:+0100
TZNAME:CET
DTSTART:20271031T010000
END:STANDARD
END:VTIMEZONE
BEGIN:VEVENT
DTSTART;TZID=Europe/Berlin:20260427T180000
DTEND;TZID=Europe/Berlin:20260427T210000
DTSTAMP:20260424T193536
CREATED:20251218T115510Z
LAST-MODIFIED:20260421T193301Z
UID:3118-1777312800-1777323600@www.kochverein-frankonia.de
SUMMARY:Spargelessen in Oberpleichfeld
DESCRIPTION:Wir laden zum Spargelessen ein! In der Gaststätte Bauer in Oberpleichfeld um 18.00 Uhr. \nFränkischer Stangenspargel mit Sauce Hollandaise\, Kartoffeln und Schnitzel á € 25\,00 pro Person. \nDie Plätze sind auf 60 Personen begrenzt\, deswegen bitten wir um Reservierung über die Homepage \nWir freuen uns auf einen gemütlichen Abend und nettes Beisammensein!\nEuer Kochverein Frankonia e.V.
URL:https://www.kochverein-frankonia.de/event/spargelessen-in-oberpleichfeld/
LOCATION:Gaststätte Bauer\, Oberpleichfeld\, Prosselsheimer Strasse 15\, Oberpleichfeld\, 97241\, Deutschland
ATTACH;FMTTYPE=image/png:https://www.kochverein-frankonia.de/wp-content/uploads/2025/12/Kochverein-Frankonia-Spargelessen-scaled.png
END:VEVENT
END:VCALENDAR