BEGIN:VCALENDAR
VERSION:2.0
PRODID:-//Kochverein Frankonia e.V. - ECPv6.15.16//NONSGML v1.0//EN
CALSCALE:GREGORIAN
METHOD:PUBLISH
X-ORIGINAL-URL:https://www.kochverein-frankonia.de
X-WR-CALDESC:Veranstaltungen für Kochverein Frankonia e.V.
REFRESH-INTERVAL;VALUE=DURATION:PT1H
X-Robots-Tag:noindex
X-PUBLISHED-TTL:PT1H
BEGIN:VTIMEZONE
TZID:Europe/Berlin
BEGIN:DAYLIGHT
TZOFFSETFROM:+0100
TZOFFSETTO:+0200
TZNAME:CEST
DTSTART:20240331T010000
END:DAYLIGHT
BEGIN:STANDARD
TZOFFSETFROM:+0200
TZOFFSETTO:+0100
TZNAME:CET
DTSTART:20241027T010000
END:STANDARD
BEGIN:DAYLIGHT
TZOFFSETFROM:+0100
TZOFFSETTO:+0200
TZNAME:CEST
DTSTART:20250330T010000
END:DAYLIGHT
BEGIN:STANDARD
TZOFFSETFROM:+0200
TZOFFSETTO:+0100
TZNAME:CET
DTSTART:20251026T010000
END:STANDARD
BEGIN:DAYLIGHT
TZOFFSETFROM:+0100
TZOFFSETTO:+0200
TZNAME:CEST
DTSTART:20260329T010000
END:DAYLIGHT
BEGIN:STANDARD
TZOFFSETFROM:+0200
TZOFFSETTO:+0100
TZNAME:CET
DTSTART:20261025T010000
END:STANDARD
END:VTIMEZONE
BEGIN:VEVENT
DTSTART;TZID=Europe/Berlin:20251201T180000
DTEND;TZID=Europe/Berlin:20251201T220000
DTSTAMP:20260425T054541
CREATED:20241210T194236Z
LAST-MODIFIED:20251029T082824Z
UID:2476-1764612000-1764626400@www.kochverein-frankonia.de
SUMMARY:Kalbsbrustessen
DESCRIPTION:Kalbsbrustessen in der Gaststätte Bauer in Oberpleichfeld um 18.00 Uhr. \nKalbsbrust mit Kloß und Salat á € 20\,00 pro Person. \nDie Plätze sind auf 70 Personen begrenzt\, deswegen bitten wir um Reservierung über die Homepage (möglich ab 01. November) \nWir freuen uns auf einen gemütlichen Abend und nettes Beisammensein!\nEuer Kochverein Frankonia e.V.
URL:https://www.kochverein-frankonia.de/event/kalbsbrustessen/
LOCATION:Gaststätte Bauer\, Oberpleichfeld\, Prosselsheimer Strasse 15\, Oberpleichfeld\, 97241\, Deutschland
ATTACH;FMTTYPE=image/png:https://www.kochverein-frankonia.de/wp-content/uploads/2024/12/Kochverein-Frankonie-Kalbsbrust-scaled.png
ORGANIZER;CN="Kochverein Frankonia e.V.":MAILTO:marketing@kochverein-frankonia.de
END:VEVENT
END:VCALENDAR