BEGIN:VCALENDAR
VERSION:2.0
PRODID:-//Kochverein Frankonia e.V. - ECPv6.15.16//NONSGML v1.0//EN
CALSCALE:GREGORIAN
METHOD:PUBLISH
X-WR-CALNAME:Kochverein Frankonia e.V.
X-ORIGINAL-URL:https://www.kochverein-frankonia.de
X-WR-CALDESC:Veranstaltungen für Kochverein Frankonia e.V.
REFRESH-INTERVAL;VALUE=DURATION:PT1H
X-Robots-Tag:noindex
X-PUBLISHED-TTL:PT1H
BEGIN:VTIMEZONE
TZID:Europe/Berlin
BEGIN:DAYLIGHT
TZOFFSETFROM:+0100
TZOFFSETTO:+0200
TZNAME:CEST
DTSTART:20240331T010000
END:DAYLIGHT
BEGIN:STANDARD
TZOFFSETFROM:+0200
TZOFFSETTO:+0100
TZNAME:CET
DTSTART:20241027T010000
END:STANDARD
BEGIN:DAYLIGHT
TZOFFSETFROM:+0100
TZOFFSETTO:+0200
TZNAME:CEST
DTSTART:20250330T010000
END:DAYLIGHT
BEGIN:STANDARD
TZOFFSETFROM:+0200
TZOFFSETTO:+0100
TZNAME:CET
DTSTART:20251026T010000
END:STANDARD
BEGIN:DAYLIGHT
TZOFFSETFROM:+0100
TZOFFSETTO:+0200
TZNAME:CEST
DTSTART:20260329T010000
END:DAYLIGHT
BEGIN:STANDARD
TZOFFSETFROM:+0200
TZOFFSETTO:+0100
TZNAME:CET
DTSTART:20261025T010000
END:STANDARD
END:VTIMEZONE
BEGIN:VEVENT
DTSTART;TZID=Europe/Berlin:20250407T170000
DTEND;TZID=Europe/Berlin:20250407T210000
DTSTAMP:20260425T173532
CREATED:20241210T192718Z
LAST-MODIFIED:20250311T211253Z
UID:2460-1744045200-1744059600@www.kochverein-frankonia.de
SUMMARY:Pizza After Work Party
DESCRIPTION:Wir feiern eine Pizza Party! \nSeid dabei\, bei der Pizza After Work Party! Hier dreht sich alles um Inspiration und den Austausch rund ums Pizzabacken. \nGemeinsam mit Michael Schneider und Marco Chianese erfahren wir etwas mehr über die Pizza! Anschließend darf sich jeder selbst seine Pizza belegen und diese genießen!\nIn entspannter Atmosphäre könnt ihr eure eigenen Pizzakreationen zaubern und dabei von Feedback sowie Tipps und Tricks für perfekte Ergebnisse profitieren. \nAls Dessert gibt es dann auch noch eine süße Variante! \nWir freuen uns auf einen schönen und geselligen Abend! Lasst euch dieses kulinarische Highlight nicht entgehen! Markiert euch den Termin und seid dabei! \n20 € pro Person inkl. Getränke (Softs\, Bier\, Wein\, Kaffeespezialitäten) für 4 Stunden \nDiese Veranstaltung ist nur für Mitglieder (Ehepartner/Partner*innen) des Kochvereins! \nMaximale Teilnehmer: 45 Personen
URL:https://www.kochverein-frankonia.de/event/pizza-kurs/
LOCATION:Steelraum Würzburg GmbH\, Nürnberger Straße 76\, Würzburg\, 97076
ATTACH;FMTTYPE=image/jpeg:https://www.kochverein-frankonia.de/wp-content/uploads/2024/12/Pizza-Party-Kochverein-Frankonia.jpeg
ORGANIZER;CN="Kochverein Frankonia e.V.":MAILTO:marketing@kochverein-frankonia.de
END:VEVENT
END:VCALENDAR